BEGIN:VCALENDAR
VERSION:2.0
PRODID:Events Booking
BEGIN:VEVENT
UID:69e7cc744791b
SUMMARY:Swissbau Focus Basel: Wie verändert sich das Planen\, Realisieren 
 und Bewirtschaften von Bauwerken?
DESCRIPTION:Durch die Digitalisierung verändern sich die Rollen\, Abläufe
  und zugehörigen Aufgaben beim Planen\, Realisieren und Bewirtschaften vo
 n Bauwerken rasant. Der Themenanlass vom CRB und der Fachhochschule Nordwe
 stschweiz setzt sich mit den Veränderungen und den Konsequenzen dieses Um
 bruchs auseinander. Verschiedene Akteure der Bauwirtschaft erläutern ihre
  Sichtweise und diskutieren Erfahrungen und Ansätze\, wie die Zusammenarb
 eit und die Abläufe sinnvoll gestaltet werden können.
 Detailprogramm&n
 bsp\;
 
 Gratis Messeeintritte werden in einem separtem Mailing an alle 
 Mitglieder der Verbände IFMA Schweiz\, fmpro\, SVIT FM Schweiz und RICS v
 ersendet.
LOCATION:Messepl. 1\, 4058 Basel\, Schweiz
DTSTART:20200114T113000Z
DTEND:20200114T130000Z
DTSTAMP:20260421T211356Z
ORGANIZER;CN=IFMA Schweiz :MAILTO:admin@ifma.ch
GEO:47.563976;7.599431
X-APPLE-STRUCTURED-LOCATION;VALUE=URI;X-ADDRESS=Messepl. 1\, 4058 Basel\, S
 chweiz;X-APPLE-RADIUS=72;X-TITLE=Basel\, Messe Basel Halle 1.0 Süd:47.563
 976;7.599431
END:VEVENT
END:VCALENDAR