BEGIN:VCALENDAR
VERSION:2.0
PRODID:Events Booking
BEGIN:VEVENT
UID:69e7cb45a51ac
SUMMARY:Swissbau Focus Basel: Integrierte Projektabwicklung
DESCRIPTION:Die Herausforderungen und Abhängigkeiten in der Projektabwickl
 ung sind komplex\, das ist unbestritten. Der Versuch\, die Lösung in den 
 bestehenden Prozessen mit neuen technischen Werkzeugen zu finden ist berei
 ts mehrfach gescheitert. Wie kann eine bessere Zusammenarbeit organisiert 
 und umgesetzt werden? Erfahrungen aus der Schweiz und Skandinavien sowie e
 ine etwas andere Sicht auf die Zusammenarbeit im Planungs-\, Bau- und Immo
 bilienwesen erwartet sie in dieser spannenden und mit Sicherheit kurzweili
 gen Stunde.
 
 Gratis Messeeintritte werden in einem separtem Mailing an
  alle Mitglieder der Verbände IFMA Schweiz\, fmpro\, SVIT FM Schweiz und 
 RICS versendet.
LOCATION:Messepl. 1\, 4058 Basel\, Schweiz
DTSTART:20200116T121500Z
DTEND:20200116T131500Z
DTSTAMP:20260421T210853Z
ORGANIZER;CN=IFMA Schweiz :MAILTO:admin@ifma.ch
GEO:47.563976;7.599431
X-APPLE-STRUCTURED-LOCATION;VALUE=URI;X-ADDRESS=Messepl. 1\, 4058 Basel\, S
 chweiz;X-APPLE-RADIUS=72;X-TITLE=Basel\, Messe Basel Halle 1.0 Süd:47.563
 976;7.599431
END:VEVENT
END:VCALENDAR