BEGIN:VCALENDAR
VERSION:2.0
PRODID:Events Booking
BEGIN:VEVENT
UID:69e7e8127e550
SUMMARY:Site Visit: Energiezentrale Forsthaus Bern
DESCRIPTION:&nbsp\;
 
 Es werden interessante Einblicke hinter die Kuliss
 en einer der grössten und modernsten Kehrichtverbrennungs- und Energiever
 wertungsanlagen gewährt. Dabei stehen die ersten Betriebsjahre in der Pro
 duktion sowie im FM im Fokus.
 &nbsp\;
 &nbsp\;
LOCATION:Murtenstrasse 100\, 3008 Bern\, Schweiz
DTSTART:20170706T150000Z
DTEND:20170706T174500Z
DTSTAMP:20260421T231146Z
ORGANIZER;CN=IFMA Schweiz :MAILTO:admin@ifma.ch
GEO:46.951434;7.413776
X-APPLE-STRUCTURED-LOCATION;VALUE=URI;X-ADDRESS=Murtenstrasse 100\, 3008 Be
 rn\, Schweiz;X-APPLE-RADIUS=72;X-TITLE=:46.951434;7.413776
END:VEVENT
END:VCALENDAR