BEGIN:VCALENDAR
VERSION:2.0
PRODID:Events Booking
BEGIN:VEVENT
UID:69e9db448a705
SUMMARY:IFMA Spotlight 2019: Digital Work
DESCRIPTION:
 Detailprogramm
 
LOCATION:Selnaustrasse 25 8001 Zürich
DTSTART:20190131T120000Z
DTEND:20190131T180000Z
DTSTAMP:20260423T104140Z
ORGANIZER;CN=IFMA Schweiz :MAILTO:admin@ifma.ch
GEO:47.372528;8.53003
X-APPLE-STRUCTURED-LOCATION;VALUE=URI;X-ADDRESS=Selnaustrasse 25 8001 Züri
 ch;X-APPLE-RADIUS=72;X-TITLE=Zürich\, Kraftwerk:47.372528;8.53003
END:VEVENT
END:VCALENDAR