BEGIN:VCALENDAR
VERSION:2.0
PRODID:Events Booking
BEGIN:VEVENT
UID:69e7f5af29e01
SUMMARY:IFMA Spotlight 2018 - Digital FM  – Wo Digitalisierung wirkt.
DESCRIPTION:  &nbsp\; 
 Detailprogramm
 Anfahrt mit öV und Auto
 Vorsch
 au zu den Referaten:
 
 Einführung zum Positionspapier BIM und FM von T
 homas Kral\, Vorstand IFMA Schweiz
 Bauen Digital Schweiz Birgitta Schock
 \, schockguyan gmbh
 Überführung von BIM-Modellen in die FM-Praxis\, Ur
 s Schär matti ragaz hitz architekten und Klaus Aengenvoort e-Task Immobil
 ien
 Service on Demand\, Stefan Dürig Post Immobilien
 Digitalisierung 
 - Evolution\, Revolution oder Hype? Roman Boutellier Prof. Em. Dr. ETHZ
 
 Podiumsdiskussion mit Susanna Caravatti-Felchlin Präsidentin IFMA Schweiz
 \, Antje Junghans ZHAW Institut für FM\, Reto Largo Geschäftsführer NES
 T\, Lara Paemen IFMA Europe
 
 
LOCATION:Pfingstweidstrasse 110\, 8005 Zürich\, Schweiz
DTSTART:20180201T120000Z
DTEND:20180201T180000Z
DTSTAMP:20260422T000951Z
ORGANIZER;CN=IFMA Schweiz :MAILTO:admin@ifma.ch
GEO:47.391649;8.506711
X-APPLE-STRUCTURED-LOCATION;VALUE=URI;X-ADDRESS=Pfingstweidstrasse 110\, 80
 05 Zürich\, Schweiz;X-APPLE-RADIUS=72;X-TITLE=Zürich\, SIX ConventionPoi
 nt:47.391649;8.506711
END:VEVENT
END:VCALENDAR