BEGIN:VCALENDAR
VERSION:2.0
PRODID:Events Booking
BEGIN:VEVENT
UID:69e7c9a380336
SUMMARY:IFMA Site Visit: THE CIRCLE - grösste Baustelle der Schweiz
DESCRIPTION:
 THE CIRCLE - Baustellenbesichtigung mit IFMA Schweiz
 Detai
 lprogramm
 Anfahrt und organisatorische Hinweise
 &nbsp\;
 &nbsp\;
 &n
 bsp\;
LOCATION:The Circle 27 Flughafen CH\, 8058 Zürich\, Schweiz
DTSTART:20180426T140000Z
DTEND:20180426T180000Z
DTSTAMP:20260421T210155Z
ORGANIZER;CN=IFMA Schweiz :MAILTO:admin@ifma.ch
GEO:47.450742;8.565265
X-APPLE-STRUCTURED-LOCATION;VALUE=URI;X-ADDRESS=The Circle 27 Flughafen CH\
 , 8058 Zürich\, Schweiz;X-APPLE-RADIUS=72;X-TITLE=THE CIRCLE\, Hyatt Rege
 ncy\, Convention Center:47.450742;8.565265
END:VEVENT
END:VCALENDAR