BEGIN:VCALENDAR
VERSION:2.0
PRODID:Events Booking
BEGIN:VEVENT
UID:69e7d8bf11548
SUMMARY:IFMA Site Visit Schindler
DESCRIPTION:
 &nbsp\;
 &nbsp\;
 Detailprogramm&nbsp\;
 Bitte beachten S
 ie den &gt\;&gt\;&gt\;Anfahrtsplan 
 Der Treffpunkt ist im Gebäude 17. D
 ieses liegt ca. 1.5km vom Haupteingang entfernt. Wir bitten Sie wenn mögl
 ich bei Gebäude 17 zu parken\, bzw. den Fussmarsch von 15 Minuten ab dem 
 Parking Haupteingang einzurechnen.Bei Anfahrt mit dem öV die entsprechend
 e Stationen Buchrain\, bzw. Fildern anfahren.
 
 
 &nbsp\;
 &nbsp\;
LOCATION:Industriestrasse 11\, 6036 Dierikon\, Schweiz
DTSTART:20190521T150000Z
DTEND:20190521T170000Z
DTSTAMP:20260421T220623Z
ORGANIZER;CN=IFMA Schweiz :MAILTO:admin@ifma.ch
GEO:47.095897;8.361325
X-APPLE-STRUCTURED-LOCATION;VALUE=URI;X-ADDRESS=Industriestrasse 11\, 6036 
 Dierikon\, Schweiz;X-APPLE-RADIUS=72;X-TITLE=Dierikon\, Schindler Aufzüge
 :47.095897;8.361325
END:VEVENT
END:VCALENDAR