BEGIN:VCALENDAR
VERSION:2.0
PRODID:Events Booking
BEGIN:VEVENT
UID:69e7f900bed14
SUMMARY:IFMA Site Visit: IATA Genève Aeroport -Naissance d’un espace mul
 tifonction\, multiservice
DESCRIPTION:
 Invitation
 Lieu de rendez-vous&nbsp\;:&nbsp\;
 Réception
  IATA\, Route de l'Aéroport 33\, 1215 Genève 15 Aéroport
 Merci de vou
 s munir de votre carte d’identité&nbsp\;pour la présenter à l’accue
 il.
 
 &nbsp\;
 &nbsp\;
LOCATION:Flughafen Genf (GVA)\, Route de l'Aéroport 33\, 1215 Le Grand-Sac
 onnex\, Schweiz
DTSTART:20180927T144500Z
DTEND:20180927T173000Z
DTSTAMP:20260422T002400Z
ORGANIZER;CN=IFMA Schweiz :MAILTO:admin@ifma.ch
GEO:46.23701;6.109156
X-APPLE-STRUCTURED-LOCATION;VALUE=URI;X-ADDRESS=Flughafen Genf (GVA)\, Rout
 e de l'Aéroport 33\, 1215 Le Grand-Saconnex\, Schweiz;X-APPLE-RADIUS=72;X
 -TITLE=Genève\, Aeroport Réception IATA:46.23701;6.109156
END:VEVENT
END:VCALENDAR