BEGIN:VCALENDAR
VERSION:2.0
PRODID:Events Booking
BEGIN:VEVENT
UID:69e7ea61e6ea2
SUMMARY:IFMA Site Visit: Aménagement d'un centre de conseil téléphonique
  et gestion des mesures acoustiques
DESCRIPTION:Programme
 
LOCATION:Avenue de la Vallombreuse 100\, 1008 Prilly\, Schweiz
DTSTART:20190620T144500Z
DTEND:20190620T173000Z
DTSTAMP:20260421T232137Z
ORGANIZER;CN=IFMA Schweiz :MAILTO:admin@ifma.ch
GEO:46.541245;6.6099
X-APPLE-STRUCTURED-LOCATION;VALUE=URI;X-ADDRESS=Avenue de la Vallombreuse 1
 00\, 1008 Prilly\, Schweiz;X-APPLE-RADIUS=72;X-TITLE=Prilly\, Banque Canto
 nale Vaudoise:46.541245;6.6099
END:VEVENT
END:VCALENDAR