BEGIN:VCALENDAR
VERSION:2.0
PRODID:Events Booking
BEGIN:VEVENT
UID:69e7f6557716a
SUMMARY:VERSCHOBEN: IFMA Roadshow FM und BIM 
DESCRIPTION:
 Aufgrund der aktuellen Entwicklung der Covid 19 Fälle\, wir
 d diese Veranstaltung verschoben voraussichtlich auf 5. Mai 2021 (Datum mu
 ss vom Gastgeber noch bestätigt werden)
 Programm
 Vier Jahre nach Ver
 öffentlichung des IFMA Positionspapiers FM und BIM möchten wir beleuchte
 n wo der Markt heute steht.
 
LOCATION:Gubelstrasse 22\, 6300 Zug\, Schweiz
DTSTART:20201019T150000Z
DTEND:20201019T170000Z
DTSTAMP:20260422T001237Z
ORGANIZER;CN=IFMA Schweiz :MAILTO:admin@ifma.ch
GEO:47.175703;8.51423
X-APPLE-STRUCTURED-LOCATION;VALUE=URI;X-ADDRESS=Gubelstrasse 22\, 6300 Zug\
 , Schweiz;X-APPLE-RADIUS=72;X-TITLE=:47.175703;8.51423
END:VEVENT
END:VCALENDAR