BEGIN:VCALENDAR
VERSION:2.0
PRODID:Events Booking
BEGIN:VEVENT
UID:69ea38f6b3cf2
SUMMARY:IFMA Meets: CO2-neutraler Betrieb bis 2030 ... 2050
DESCRIPTION:&gt\;&gt\;&gt\; Programm 
 Trotz der Ablehnung des CO2-Gesetze
 s wissen wir\, dass dies nur ein Aufschub bedeutet. Der Gebäude- und Immo
 bilien-Sektor wird unabhängig davon seinen Beitrag leisten müssen. Das F
 acility Management steht in der Pflicht. Es gilt proaktiv zu analysieren\,
  evaluieren zu planen und dann gezielt zu handeln.
 Webinar mit&nbsp\; He
 inz J. Bernegger\, Moderation Dr. Simon Ashworth
 Am Vormittag vom Webina
 r erhalten Sie einen Aktivierungslink für Zoom.
 
LOCATION:Zürich\, Schweiz
DTSTART:20211007T143000Z
DTEND:20211007T153000Z
DTSTAMP:20260423T172126Z
ORGANIZER;CN=IFMA Schweiz :MAILTO:admin@ifma.ch
GEO:47.376887;8.541694
X-APPLE-STRUCTURED-LOCATION;VALUE=URI;X-ADDRESS=Zürich\, Schweiz;X-APPLE-R
 ADIUS=72;X-TITLE=online:47.376887;8.541694
END:VEVENT
END:VCALENDAR