BEGIN:VCALENDAR
VERSION:2.0
PRODID:Events Booking
BEGIN:VEVENT
UID:69e7f6179cab9
SUMMARY:IFMA Expert Talk: FM Monitor
DESCRIPTION:
 Programme
 Le benchmarking offre la possibilité de compare
 r les ratios de coûts et de surface des biens immobiliers. Cela permet d
 ’identifier les forces et faiblesses d’objets ou de portefeuilles. Dan
 s le webinaire on a un débat sur les questions suivantes :
 
 Quelle es
 t son intégration dans l’environnement de votre portefeuille immobilier
  ?
 Quels sont les exemples d’une utilisation réussie ?
 
 Conféran
 cière Gaëlle Christory
 
LOCATION:Zürich\, Schweiz
DTSTART:20220414T100000Z
DTEND:20220414T103000Z
DTSTAMP:20260422T001135Z
ORGANIZER;CN=IFMA Schweiz :MAILTO:admin@ifma.ch
GEO:47.376887;8.541694
X-APPLE-STRUCTURED-LOCATION;VALUE=URI;X-ADDRESS=Zürich\, Schweiz;X-APPLE-R
 ADIUS=72;X-TITLE=online:47.376887;8.541694
END:VEVENT
END:VCALENDAR