BEGIN:VCALENDAR
VERSION:2.0
PRODID:Events Booking
BEGIN:VEVENT
UID:69ea38c7eb092
SUMMARY:IFMA Expert Talk: BIM Monitor
DESCRIPTION:Programme
 La transformation digitale exige des entreprises qu
 ’elles s’adaptent en permanence à un environnement en transformation.
  Ces dernières doivent relever les nouveaux défis comme développer de n
 ouveaux modèles d’affaires\, rester attractives en tant qu’employeurs
  et (sur)veiller le marché.
 Conférancier Marco Stäuble
 
LOCATION:Zürich\, Schweiz
DTSTART:20220223T110000Z
DTEND:20220223T113000Z
DTSTAMP:20260423T172039Z
ORGANIZER;CN=IFMA Schweiz :MAILTO:admin@ifma.ch
GEO:47.376887;8.541694
X-APPLE-STRUCTURED-LOCATION;VALUE=URI;X-ADDRESS=Zürich\, Schweiz;X-APPLE-R
 ADIUS=72;X-TITLE=online:47.376887;8.541694
END:VEVENT
END:VCALENDAR