BEGIN:VCALENDAR
VERSION:2.0
PRODID:Events Booking
BEGIN:VEVENT
UID:69e7cb3b4391d
SUMMARY:Get Together Ostschweiz
DESCRIPTION:
 &nbsp\;
 In lockerer Atmosphäre bei einem Glas Wein oder B
 ier sich über die beruflichen Herausforderungen austauschen. Gäste sind 
 herzlich willkommen.
 
LOCATION:Oberer Graben 3\, 9000 St. Gallen\, Schweiz
DTSTART:20191002T150000Z
DTEND:20191002T173000Z
DTSTAMP:20260421T210843Z
ORGANIZER;CN=IFMA Schweiz :MAILTO:admin@ifma.ch
GEO:47.425639;9.37454
X-APPLE-STRUCTURED-LOCATION;VALUE=URI;X-ADDRESS=Oberer Graben 3\, 9000 St. 
 Gallen\, Schweiz;X-APPLE-RADIUS=72;X-TITLE=St. Gallen\, Süd Cafè Bar:47.
 425639;9.37454
END:VEVENT
END:VCALENDAR