BEGIN:VCALENDAR
VERSION:2.0
PRODID:Events Booking
BEGIN:VEVENT
UID:69e83670a7a98
SUMMARY:Get Together Bern
DESCRIPTION:
 Get Together Spezial mit der neuen Co-Präsidentin Isabelle 
 Wrase. Neue Strategien und Ideen für die Zukunft von IFMA austauschen bei
  einem Glas Wein oder Bier. Gäste sind herzlich willkommen.
 Anmeldung: 
 thomas.luethi@ifma.ch
 
LOCATION:Hirschengraben 24\, 3011 Bern\, Schweiz
DTSTART:20221011T153000Z
DTEND:20221011T170000Z
DTSTAMP:20260422T044608Z
ORGANIZER;CN=IFMA Schweiz :MAILTO:admin@ifma.ch
GEO:46.945959;7.437019
X-APPLE-STRUCTURED-LOCATION;VALUE=URI;X-ADDRESS=Hirschengraben 24\, 3011 Be
 rn\, Schweiz;X-APPLE-RADIUS=72;X-TITLE=Bern\, Restaurant National :46.9459
 59;7.437019
END:VEVENT
END:VCALENDAR