BEGIN:VCALENDAR
VERSION:2.0
PRODID:Events Booking
BEGIN:VEVENT
UID:69e78a36a499f
SUMMARY:Netzwerktreffen Ostschweiz - Besichtigung Paketzentrum Frauenfeld
DESCRIPTION:Netzwerktreffen Ostschweiz mit Besichtigung Paketzentrum Frauen
 feld
 Das Paketzentrum Frauenfeld hat eine Sortierkapazität von über 25
 ’000 Paketen pro Stunde. Erleben Sie während einer spannendem Führung 
 die modernen Technologien: Vom Wareneingang über die Sortierung und Kommi
 ssionierung bis hin zum Warenausgang.
 &nbsp\;
 &nbsp\;
LOCATION:Langfeldstrasse 110\, 8500 Frauenfeld
DTSTART:20231026T133000Z
DTSTAMP:20230803T072806Z
ORGANIZER;CN=IFMA Schweiz :MAILTO:admin@ifma.ch
GEO:47.57161;8.917765
X-APPLE-STRUCTURED-LOCATION;VALUE=URI;X-ADDRESS=Langfeldstrasse 110\, 8500 
 Frauenfeld;X-APPLE-RADIUS=72;X-TITLE=:47.57161;8.917765
END:VEVENT
END:VCALENDAR