BEGIN:VCALENDAR
VERSION:2.0
PRODID:Events Booking
BEGIN:VEVENT
UID:69e7772069398
SUMMARY:AG IFMA Suisse 2016
DESCRIPTION:&nbsp\;
 &nbsp\;
 &nbsp\;
 &nbsp\;
 15.45h Inscription16.15
 -17.45h 19e Assemblée générale ordinaire 17.45-18.00h Salutations de bi
 envenue par Stefan Jost18.00-19.00h Visite guidée du Musée du football m
 ondial de la FIFA19.00-20.00h Apéritif et networking
 Inscription s'il v
 ous plaît avec le buton gris en bas
 Desinscription ici
LOCATION:Seestrasse 27\, 8002 Zürich\, Schweiz
DTSTART:20160831T134500Z
DTEND:20160831T180000Z
DTSTAMP:20260421T150952Z
ORGANIZER;CN=IFMA Schweiz :MAILTO:admin@ifma.ch
GEO:47.363335;8.531703
X-APPLE-STRUCTURED-LOCATION;VALUE=URI;X-ADDRESS=Seestrasse 27\, 8002 Züric
 h\, Schweiz;X-APPLE-RADIUS=72;X-TITLE=Zürich\, FIFA World Football Museum
 :47.363335;8.531703
END:VEVENT
END:VCALENDAR