BEGIN:VCALENDAR
VERSION:2.0
PRODID:Events Booking
BEGIN:VEVENT
UID:69e62c805f26b
SUMMARY:Power to Gas
DESCRIPTION:Unter den Speicherlösungen\, die die Importabhängigkeit verri
 ngern\, werden viele Erwartungen in die Power-to-Gas Technologie gesetzt. 
 Sie verwandelt elektrischen Strom in speicherbaren Wasserstoff oder Methan
LOCATION:Türliackerstrasse 4\, 8957 Spreitenbach\, Schweiz
DTSTART:20210914T071500Z
DTEND:20210914T141500Z
DTSTAMP:20260420T153912Z
ORGANIZER;CN=IFMA Schweiz :MAILTO:admin@ifma.ch
GEO:47.424427;8.367081
X-APPLE-STRUCTURED-LOCATION;VALUE=URI;X-ADDRESS=Türliackerstrasse 4\, 8957
  Spreitenbach\, Schweiz;X-APPLE-RADIUS=72;X-TITLE=Spreitenbach Umweltarena
 :47.424427;8.367081
END:VEVENT
END:VCALENDAR