BEGIN:VCALENDAR
VERSION:2.0
PRODID:Events Booking
BEGIN:VEVENT
UID:69e638360ea19
SUMMARY:Öbu in der Praxis: Kreislaufwirtschaft in der öffentlichen Bescha
 ffung
DESCRIPTION:
 
 Die öffentliche Hand verlangt in ihren Beschaffungen zun
 ehmend nach Kreislaufwirtschaft. Was bedeutet das für Sie als Anbieter:in
 ? Wie stellen Sie sich bestmöglich auf\, um neuen Anforderungen im Aussch
 reibungsprozess entsprechen zu können? Das und mehr erfahren Sie in diese
 m «öbu in der Praxis».
 
 
LOCATION:Zürich\, Schweiz
DTSTART:20230510T100000Z
DTEND:20230510T110000Z
DTSTAMP:20230313T115658Z
ORGANIZER;CN=IFMA Schweiz :MAILTO:admin@ifma.ch
GEO:47.376887;8.541694
X-APPLE-STRUCTURED-LOCATION;VALUE=URI;X-ADDRESS=Zürich\, Schweiz;X-APPLE-R
 ADIUS=72;X-TITLE=online:47.376887;8.541694
END:VEVENT
END:VCALENDAR