BEGIN:VCALENDAR
VERSION:2.0
PRODID:Events Booking
BEGIN:VEVENT
UID:69eb58877bded
SUMMARY:IFMA Belgium: FM as part of the employee value proposition
DESCRIPTION:
 
 Programm
 
 
 17h30 : Arrivals
 18h00 : Welcome by IF
 MA Belgium (2 min) and Silversquare (5 min)
 18h10 : Hubs as alternative 
 for homework to improve the work performance and worklife balance – Thie
 rry Janssen – CEO XWork – (NL/FR)
 18h30 : WATT – the hybrid workin
 g concept by Ethias – Sébastien Laporte – Head of Organization Effect
 iveness &amp\; Facilities – (FR)
 18h50 : Purposeful Presence – How a
 nd why employees return – Pierrick Masure – Development Director – L
 eesman – (NL)
 19h20 : Closing by IFMA
 19h30 : Networking and walking
  dinner
 
 Event Fee
 
 Students – Free
 Facility &amp\; Real Estat
 e Professionals&nbsp\;–&nbsp\; Members : 80\,-EUR / Non-members: 150\,-E
 UR
 Associate &amp\; vendors&nbsp\;–&nbsp\; Members: 120\,-EUR / Non-me
 mbers: 200\,-EUR
 
 
 
LOCATION:Cantersteen 47\, 1000 Bruxelles\, Belgien
DTSTART:20230427T153000Z
DTSTAMP:20230420T113010Z
ORGANIZER;CN=IFMA Schweiz :MAILTO:admin@ifma.ch
GEO:50.84567;4.35819
X-APPLE-STRUCTURED-LOCATION;VALUE=URI;X-ADDRESS=Cantersteen 47\, 1000 Bruxe
 lles\, Belgien;X-APPLE-RADIUS=72;X-TITLE=:50.84567;4.35819
END:VEVENT
END:VCALENDAR