BEGIN:VCALENDAR
VERSION:2.0
PRODID:Events Booking
BEGIN:VEVENT
UID:69e75e6e67612
SUMMARY:Forum Building Science
DESCRIPTION:
 Am jährlich stattfindenden „Forum Building Science“ wer
 den aktuelle Projektergebnisse und -aktivitäten aus den Forschungs- und L
 ehrbereichen des Departments für Bauen und Umwelt der Donau-Universität 
 Krems vorgestellt und diskutiert. Teilnahme kostenlos.
DTSTART:20210629T073000Z
DTEND:20210629T133000Z
DTSTAMP:20260421T132430Z
ORGANIZER;CN=IFMA Schweiz :MAILTO:admin@ifma.ch
END:VEVENT
END:VCALENDAR