BEGIN:VCALENDAR
VERSION:2.0
PRODID:Events Booking
BEGIN:VEVENT
UID:69e63bba7ab29
SUMMARY:Build in Wood
DESCRIPTION:DIE SKANDINAVISCHE KONFERENZ BUILD IN WOOD KOMMT NACH HAMBURG! 
 Holz als nachhaltiger Baustoff wirft einige Fragen zur Nachhaltigkeit und 
 Klimaauswirkungen auf. Wie arbeiten wir mit Holz\, um die Klimaziele in de
 r Zukunft zu erreichen\, und wie stellen wir die Nachhaltigkeit sicher?
LOCATION:Beim Alten Gaswerk 3\, 22761 Hamburg\, Deutschland
DTSTART:20230124T230000Z
DTEND:20230125T230000Z
DTSTAMP:20220513T075654Z
ORGANIZER;CN=IFMA Schweiz :MAILTO:admin@ifma.ch
GEO:53.562753;9.919516
X-APPLE-STRUCTURED-LOCATION;VALUE=URI;X-ADDRESS=Beim Alten Gaswerk 3\, 2276
 1 Hamburg\, Deutschland;X-APPLE-RADIUS=72;X-TITLE=Hamburg\, Gastwerk Hotel
  Hamburg:53.562753;9.919516
END:VEVENT
END:VCALENDAR