BEGIN:VCALENDAR
VERSION:2.0
PRODID:Events Booking
BEGIN:VEVENT
UID:69e7ea47b0f28
SUMMARY:Swissbau Focus Basel
DESCRIPTION:
 Ensemble avec les associations professionnelles fmpro\, Svit
  FM Suisse et RICS\, nous déployons la transformation numérique dans le 
 FM et tout particulièrement la technologie de BIM.
 
 Venez visiter not
 re Point FM au hall 1.0 / Stand F 15
 Informez-vous en assistant à l’u
 n des exposés (en allemand) que nous recommandons
 Assistez à une visit
 e FM guidée&nbsp\;\; il est souhaitable de s'inscrire
 Pour toutes les p
 ersonnes intéressées par BIM\, nous recommandons le programme \"&nbsp\;B
 IM2FM&nbsp\;\" tenu le vendredi 17.1.2020 de 9.30 à 11.00h
 
 
 CRB Su
 isse romande organise le voyage aller en groupe le 14.1.20 inscription
 
 
 Nous serons ravis de vous accueillir&nbsp\;!
 programme (en allemand)

  &nbsp\;
 
LOCATION:Messepl.\, 4058 Basel\, Schweiz
DTSTART:20200116T080000Z
DTEND:20200118T170000Z
DTSTAMP:20260421T232111Z
ORGANIZER;CN=IFMA Schweiz :MAILTO:admin@ifma.ch
GEO:47.56378;7.60079
X-APPLE-STRUCTURED-LOCATION;VALUE=URI;X-ADDRESS=Messepl.\, 4058 Basel\, Sch
 weiz;X-APPLE-RADIUS=72;X-TITLE=Basel\, Congress Center\, Halle 1.0\, Stand
  F15:47.56378;7.60079
END:VEVENT
END:VCALENDAR