BEGIN:VCALENDAR
VERSION:2.0
PRODID:Events Booking
BEGIN:VEVENT
UID:69e7eda2803c5
SUMMARY:Swissbau Focus Basel: BIM2FM - von der Planung bis in den Betrieb
DESCRIPTION:programme (en allemand)
 Das Facility Management (FM) kann von
  der Methode BIM profitieren\, wenn es die Möglichkeiten erkennt und mitg
 estaltet. Dafür müssen BIM und FM im gesamten Planungs- und Bauprozess m
 iteinbezogen werden. Seien Sie dabei\, wenn wir die Rolle von FM und BIM v
 on der strategischen Planung über die Bauphase bis in den Betrieb diskuti
 eren!
 
 Gratis Messeeintritte werden in einem separtem Mailing an alle 
 Mitglieder der Verbände IFMA Schweiz\, fmpro\, SVIT FM Schweiz und RICS v
 ersendet.
LOCATION:Messepl. 1\, 4058 Basel\, Schweiz
DTSTART:20200117T083000Z
DTEND:20200117T100000Z
DTSTAMP:20260421T233530Z
ORGANIZER;CN=IFMA Schweiz :MAILTO:admin@ifma.ch
GEO:47.563976;7.599431
X-APPLE-STRUCTURED-LOCATION;VALUE=URI;X-ADDRESS=Messepl. 1\, 4058 Basel\, S
 chweiz;X-APPLE-RADIUS=72;X-TITLE=Basel\, Messe Basel Halle 1.0 Süd:47.563
 976;7.599431
END:VEVENT
END:VCALENDAR