BEGIN:VCALENDAR
VERSION:2.0
PRODID:Events Booking
BEGIN:VEVENT
UID:69e76f14b5c0b
SUMMARY:Suffizienz - wie bitte?
DESCRIPTION:Die übermässige Belastung des Planeten\, Klimawandel und Arte
 nsterben gefährden unsere Lebensgrundlagen. Rein technologiebasierte Stra
 tegien alleine scheinen bisher keine Besserung zu bringen\, Energie- und R
 essourcenverbrauch wachsen ebenso wie die Wirtschaft. Derweil stagniert in
  den reichen Ländern die Zufriedenheit. Was ist eigentlich ein gutes Lebe
 n und wie erreichen wir das gute Mass? Wie kommen wir von einer fossilen W
 elt des Überflusses in eine suffiziente\, zukunftsfähige Welt?
LOCATION:Lagerstrasse 104\, 8004 Zürich\, Schweiz
DTSTART:20210831T163000Z
DTEND:20210831T180000Z
DTSTAMP:20260421T143532Z
ORGANIZER;CN=IFMA Schweiz :MAILTO:admin@ifma.ch
GEO:47.380093;8.528918
X-APPLE-STRUCTURED-LOCATION;VALUE=URI;X-ADDRESS=Lagerstrasse 104\, 8004 Zü
 rich\, Schweiz;X-APPLE-RADIUS=72;X-TITLE=Zürich\, Kulturhaus Kosmos:47.38
 0093;8.528918
END:VEVENT
END:VCALENDAR