BEGIN:VCALENDAR
VERSION:2.0
PRODID:Events Booking
BEGIN:VEVENT
UID:69e869e46c4f2
SUMMARY:Spotlight FMplus 25
DESCRIPTION:
 ProgrammDas Institut für Facility Management der ZHAW Zürc
 her Hochschule für Angewandte Wissenschaften\, IFMA International Facilit
 y Management Association Switzerland Chapter und GEFMA Deutscher Verband f
 ür Facility Management heissen Sie herzlich willkommen zur ersten «Spotl
 ight FMplus» Konferenz.Die Fachkonferenz «Spotlight FMplus» ist ein sic
 h weiter entwickelndes Veranstaltungsformat von Hochschulen und Verbänden
  für die Facility Management Branche und weiteren Stakeholdern aus der Im
 mobilienwelt. Die Konferenz wird jährlich in der DACH-Region ausgetragen\
 ; die Reihe beginnt 2025 in der Schweiz.Ziel der «Spotlight FMplus» Konf
 erenz mit Fokus auf die DACH-Region ist es
 
 Chancen und Herausforderun
 gen der Branche aufzuzeigen\,
 neueste Erkenntnisse aus Wissenschaft zu t
 eilen und mit Akteuren aus Wirtschaft\, Verbänden und Politik kollaborati
 v\, innovativ und visibel anzugehen und
 Preisträger:innen mit ausgezeic
 hneten Arbeiten aus dem Bereich FM und verwandten Disziplinen eine Bühne 
 bieten\, ihre wissenschaftlichen Arbeiten zu präsentieren.
 
 Je ein Ta
 g wird dem Facility Management in der Berufspraxis (Spotlight: 30. Januar 
 2025) sowie der Forschung gewidmet (FMplus: 31. Januar 2025).
 Mehr Infor
 mationen auf unserer separaten Spotlight-Seite.
LOCATION:Toni-Areal\, 8005 Zürich\, Schweiz
DTSTART:20250130T120000Z
DTEND:20250131T160000Z
DTSTAMP:20240123T065438Z
ORGANIZER;CN=IFMA Schweiz :MAILTO:admin@ifma.ch
GEO:47.390181;8.510703
X-APPLE-STRUCTURED-LOCATION;VALUE=URI;X-ADDRESS=Toni-Areal\, 8005 Zürich\,
  Schweiz;X-APPLE-RADIUS=72;X-TITLE=Zürich\, Toni-Areal:47.390181;8.510703
END:VEVENT
END:VCALENDAR