BEGIN:VCALENDAR
VERSION:2.0
PRODID:Events Booking
BEGIN:VEVENT
UID:69ea02060a790
SUMMARY:Site Visit: Lehr- Lern- und Arbeitsformen an der Uni
DESCRIPTION:
 Neben einem Rundgang werden die Immobilienstrategie der Univ
 ersität St. Gallen\, die laufenden Initiativen\, die absehbaren künftige
 n Entwicklungen im Immobilienbereich und der Projektauftrag «Kompetenzaus
 bau SZ-IS» am Anlass erläutert.
 
 Detailprogramm
 &nbsp\;
 &nbsp\;
 
 &nbsp\;
LOCATION:Müller-Friedberg-Strasse 6\, 9000 St. Gallen\, Schweiz
DTSTART:20170926T151500Z
DTEND:20170926T171500Z
DTSTAMP:20260423T132702Z
ORGANIZER;CN=IFMA Schweiz :MAILTO:admin@ifma.ch
GEO:47.428053;9.374866
X-APPLE-STRUCTURED-LOCATION;VALUE=URI;X-ADDRESS=Müller-Friedberg-Strasse 6
 \, 9000 St. Gallen\, Schweiz;X-APPLE-RADIUS=72;X-TITLE=:47.428053;9.374866
END:VEVENT
END:VCALENDAR