BEGIN:VCALENDAR
VERSION:2.0
PRODID:Events Booking
BEGIN:VEVENT
UID:69ea2ac9eaf26
SUMMARY:Site Visit CO2 neutrale Wohnsiedlung und Bräteln am See
DESCRIPTION:
 &nbsp\;
 &nbsp\;
 &nbsp\;
 Wir besuchen die Neubausiedlun
 g Am Aawasser in Buochs (Nidwalden). Die Wohnungen sind CO2 neutral und da
 zu gibts ein spezielles Vermietungskonzept mit Zusatzleistungen.Anschliess
 end gemütliches \"Bräteln\" am See bei hoffentlich sommerlichen Temperat
 uren.
 Teilnehmerzahl auf 20 beschränkt. Gäste sind herzlich willkommen
 . (Mitglieder kostenlos\; Gäste Unkostenbeitrag 30.- in bar vor Ort)
 Pr
 ogramm 
 
 &nbsp\;
 &nbsp\;
LOCATION:Ennetbürgerstrasse 36\, 6374 Buochs\, Schweiz
DTSTART:20200813T143000Z
DTEND:20200813T181500Z
DTSTAMP:20260423T162057Z
ORGANIZER;CN=IFMA Schweiz :MAILTO:admin@ifma.ch
GEO:46.976817;8.417573
X-APPLE-STRUCTURED-LOCATION;VALUE=URI;X-ADDRESS=Ennetbürgerstrasse 36\, 63
 74 Buochs\, Schweiz;X-APPLE-RADIUS=72;X-TITLE=Buochs:46.976817;8.417573
END:VEVENT
END:VCALENDAR