BEGIN:VCALENDAR
VERSION:2.0
PRODID:Events Booking
BEGIN:VEVENT
UID:69e73eca7b180
SUMMARY:Servparc on Air
DESCRIPTION:
 Die digitale Konferenz für Innovationen und Trends im Facil
 ity Management bietet ein spannendes und interaktives Programm auf insgesa
 mt drei parallel bespielten Kanälen.
DTSTART:20210629T060000Z
DTEND:20210701T150000Z
DTSTAMP:20260421T110930Z
ORGANIZER;CN=IFMA Schweiz :MAILTO:admin@ifma.ch
END:VEVENT
END:VCALENDAR