BEGIN:VCALENDAR
VERSION:2.0
PRODID:Events Booking
BEGIN:VEVENT
UID:69eb4bce6055f
SUMMARY:Journées suisses du logement 2024
DESCRIPTION:Une manifestation nationale sur le thème de la conception d'ha
 bitats et d'espaces de vie adaptés aux générations. La plupart des jour
 s\, l'entrée est libre et sans inscription. Profitez de cette offre !La m
 anifestation se déroulera dans différents lieux de Fribourg.
DTSTART:20241106T170000Z
DTEND:20240924T160000Z
DTSTAMP:20240903T132941Z
ORGANIZER;CN=IFMA Schweiz :MAILTO:admin@ifma.ch
END:VEVENT
END:VCALENDAR