BEGIN:VCALENDAR
VERSION:2.0
PRODID:Events Booking
BEGIN:VEVENT
UID:69e75fd6421c1
SUMMARY:Immobilien 2025
DESCRIPTION:
 Einblicke in die Ausrichtung der FM Organition bei enercity 
 (Stadtwerke Hannover AG)
LOCATION:Zürich\, Schweiz
DTSTART:20210617T160000Z
DTEND:20210617T170000Z
DTSTAMP:20260421T133030Z
ORGANIZER;CN=IFMA Schweiz :MAILTO:admin@ifma.ch
GEO:47.376887;8.541694
X-APPLE-STRUCTURED-LOCATION;VALUE=URI;X-ADDRESS=Zürich\, Schweiz;X-APPLE-R
 ADIUS=72;X-TITLE=online:47.376887;8.541694
END:VEVENT
END:VCALENDAR