BEGIN:VCALENDAR
VERSION:2.0
PRODID:Events Booking
BEGIN:VEVENT
UID:69e79a2162caa
SUMMARY:IFMA Site Visit: Inside Glattzentrum
DESCRIPTION:Thema: FM im Wandel eines Einkaufszentrums
 
LOCATION:Neue Winterthurerstrasse 99\, 8304 Wallisellen\, Schweiz
DTSTART:20160707T153000Z
DTEND:20160707T180000Z
DTSTAMP:20260421T173913Z
ORGANIZER;CN=IFMA Schweiz :MAILTO:admin@ifma.ch
GEO:47.40837;8.595675
X-APPLE-STRUCTURED-LOCATION;VALUE=URI;X-ADDRESS=Neue Winterthurerstrasse 99
 \, 8304 Wallisellen\, Schweiz;X-APPLE-RADIUS=72;X-TITLE=:47.40837;8.595675
END:VEVENT
END:VCALENDAR