BEGIN:VCALENDAR
VERSION:2.0
PRODID:Events Booking
BEGIN:VEVENT
UID:69e86a4815c19
SUMMARY:IFMA Site Visit: CIO
DESCRIPTION:
 Programme
 
LOCATION:Rte de Vidy 4\, 1007 Lausanne\, Schweiz
DTSTART:20230316T130000Z
DTEND:20230316T163000Z
DTSTAMP:20260422T082720Z
ORGANIZER;CN=IFMA Schweiz :MAILTO:admin@ifma.ch
GEO:46.518949;6.5945
X-APPLE-STRUCTURED-LOCATION;VALUE=URI;X-ADDRESS=Rte de Vidy 4\, 1007 Lausan
 ne\, Schweiz;X-APPLE-RADIUS=72;X-TITLE=CIO\, Lausanne:46.518949;6.5945
END:VEVENT
END:VCALENDAR