BEGIN:VCALENDAR
VERSION:2.0
PRODID:Events Booking
BEGIN:VEVENT
UID:69e818b2ee191
SUMMARY:IFMA Meets: BIM-Standardisierung: Lästiges Übel oder Enabler für
  digitale Transformation?
DESCRIPTION:
 Programm&nbsp\;
 Mit dem Einsatz der BIM-Methode verspricht
  sich die Schweizer Bau- und Immobilienwirtschaft eine signifikante Verbes
 serung der Planungs-\, Realisierungs- und insbesondere der Bewirtschaftung
 sprozesse von Bauwerken. Das FM ist hierbei einer der wichtigsten Akteure:
  Sowohl in generierten Daten\, als auch in Anzahl Jahren und letztlich auc
 h in kumulierten Kosten übertrifft der Betrieb von Assets alle anderen Ph
 asen bei weitem. Und doch: (BIM-)Standardisierung und FM sind ein junges P
 aar.
 Webinar mit Stefan Reiser\, SBB \, Moderation Dr. Simon Ashworth
 
 Am Vormittag vom Webinar erhalten Sie einen Aktivierungslink für Zoom. 

  Gäste bitten wir den Betrag von CHF 25.- mit TWINT sofort zu begleichen\
 , spätestens bis 12h am Webinartag. Andernfalls kann keine Gewähr seiten
 s IFMA übernommen werden\, dass die Zahlung rechtzeitig eintrifft und som
 it der Link noch zeitgerecht zugestellt werden kann. Somit verfällt ihre 
 Zahlung ohne Anspruch auf Rückvergütung.
 
LOCATION:Zürich\, Schweiz
DTSTART:20220908T143000Z
DTEND:20220908T153000Z
DTSTAMP:20220318T152108Z
ORGANIZER;CN=IFMA Schweiz :MAILTO:admin@ifma.ch
GEO:47.376887;8.541694
X-APPLE-STRUCTURED-LOCATION;VALUE=URI;X-ADDRESS=Zürich\, Schweiz;X-APPLE-R
 ADIUS=72;X-TITLE=online:47.376887;8.541694
END:VEVENT
END:VCALENDAR