BEGIN:VCALENDAR
VERSION:2.0
PRODID:Events Booking
BEGIN:VEVENT
UID:69e86a1f098c7
SUMMARY:IFMA FM Day
DESCRIPTION:
 Réservez la date!Le programme suivra prochainement Le salon
  du Facility Management (FM)\, prévu pour le 18 septembre 2025\, promet d
 'être un événement incontournable pour les professionnels du secteur. S
 itué dans le prestigieux centre Millenium de Crissier (https://www.millen
 nium.ch/)\, reconnu pour son caractère exceptionnel\, ce salon offrira un
 e plateforme idéale pour les exposants afin de présenter leurs dernière
 s innovations et services. Les conférences et débats enrichissants seron
 t au cœur de l'événement\, favorisant le partage de connaissances et d'
 expériences entre les participants.
LOCATION:Chemin de Mongevon 25\, 1023 Crissier\, Schweiz
DTSTART:20250918T070000Z
DTEND:20250918T170000Z
DTSTAMP:20240529T075250Z
ORGANIZER;CN=IFMA Schweiz :MAILTO:admin@ifma.ch
GEO:46.549717;6.569938
X-APPLE-STRUCTURED-LOCATION;VALUE=URI;X-ADDRESS=Chemin de Mongevon 25\, 102
 3 Crissier\, Schweiz;X-APPLE-RADIUS=72;X-TITLE=Crissier\, Centre MILLENNIU
 M:46.549717;6.569938
END:VEVENT
END:VCALENDAR