BEGIN:VCALENDAR
VERSION:2.0
PRODID:Events Booking
BEGIN:VEVENT
UID:69ea8bc1a6405
SUMMARY:IFMA Expert Talk: Planungs- und baubegleitendes FM im USZ
DESCRIPTION:Programm
 Schwerpunkte der Veranstaltung sind unter anderem di
 e Strategie umgesetzt in FM Konzepten\, die Bedeutung einer klaren Kommuni
 kation im Bauprozess\, der Umgang mit der Transformation und die Anwendung
  der BIM-Methode. Darüber hinaus beleuchten das pbFM Team Aspekte wie Pfl
 ichtenhefte\, Betriebs- und Nutzungskonzept oder ihre integralen FM-Prozes
 se\, die auf Pilotprojekten und festgelegten Baurichtlinen und Standards b
 asieren.
LOCATION:Schmelzbergstrasse 14\, 8006 Zürich\, Schweiz
DTSTART:20241030T153000Z
DTEND:20241030T180000Z
DTSTAMP:20240903T131731Z
ORGANIZER;CN=IFMA Schweiz :MAILTO:admin@ifma.ch
GEO:47.377822;8.551934
X-APPLE-STRUCTURED-LOCATION;VALUE=URI;X-ADDRESS=Schmelzbergstrasse 14\, 800
 6 Zürich\, Schweiz;X-APPLE-RADIUS=72;X-TITLE=Zürich\, Universitätsspita
 l Restaurants (KUE):47.377822;8.551934
END:VEVENT
END:VCALENDAR