BEGIN:VCALENDAR
VERSION:2.0
PRODID:Events Booking
BEGIN:VEVENT
UID:69e79a268c78a
SUMMARY:IFMA Expert Talk: environnement de travail 
DESCRIPTION:Le chapitre Romand de l'IFMA Suisse\, le Facility Management de
  Merck Serono et la direction de Colliers International ont le plaisir de 
 vous inviter à un «Expert Talk» dans lequel vous pouvez découvrir ce q
 u’est un environnement de travail «activity-based» (dynamique) et ce q
 u’il peut signifier pour vous en tant que Facility Manager.
 Nous seron
 s aimablement reçus par Monsieur Patrice Chalancon\, Manager services et 
 Facilities Management de Merck Serono.
 Programme
 Nous vous demandons d
 e bien vouloir vous inscrire jusqu’au vendredi 10 juin 2016.
 
LOCATION:Rue de l'Ouriette\, 1170 Aubonne\, Schweiz
DTSTART:20160616T150000Z
DTEND:20160616T173000Z
DTSTAMP:20260421T173918Z
ORGANIZER;CN=IFMA Schweiz :MAILTO:admin@ifma.ch
GEO:46.486425;6.400346
X-APPLE-STRUCTURED-LOCATION;VALUE=URI;X-ADDRESS=Rue de l'Ouriette\, 1170 Au
 bonne\, Schweiz;X-APPLE-RADIUS=72;X-TITLE=:46.486425;6.400346
END:VEVENT
END:VCALENDAR