BEGIN:VCALENDAR
VERSION:2.0
PRODID:Events Booking
BEGIN:VEVENT
UID:69e7f3c59db38
SUMMARY:IFMA Expert-Talk: DesignThinking@FM
DESCRIPTION:Programm
 Design-Thinking ist in der Produkte- und Prozessentw
 icklung eine bereits etablierte Methode. Wie inspirieren wir uns gegenseit
 ig und entwickeln aus ersten Ideen attraktive Lösungen im FM?Von Fachexpe
 rten erhalten Sie gebündelt Informationen zu den heutigen Trends und Meth
 oden. Dann haben die Möglichkeit in einem ‘Kurz Workshop' erste Erfahru
 ngen zu machen und Fragen zu stellen.
 IFMA Mitglieder kostenlos\; Gäste
  30.- in bar vor Ort
 Der Veranstaltungsraum ist gross gewählt und es ge
 lten die neuen Vorgaben (Zertifikatspflicht) gemäss Bundesrat.
 
LOCATION:Maulbeerstrasse 10\, 3011 Bern\, Schweiz
DTSTART:20210915T140000Z
DTEND:20210915T183000Z
DTSTAMP:20260422T000141Z
ORGANIZER;CN=IFMA Schweiz :MAILTO:admin@ifma.ch
GEO:46.946543;7.436641
X-APPLE-STRUCTURED-LOCATION;VALUE=URI;X-ADDRESS=Maulbeerstrasse 10\, 3011 B
 ern\, Schweiz;X-APPLE-RADIUS=72;X-TITLE=:46.946543;7.436641
END:VEVENT
END:VCALENDAR