BEGIN:VCALENDAR
VERSION:2.0
PRODID:Events Booking
BEGIN:VEVENT
UID:69ecd59572525
SUMMARY:IFMA AG
DESCRIPTION:
 &nbsp\;
 &nbsp\;
 &nbsp\;
 &nbsp\;
 Programme
 16.00 h 
 Arrivée et enregistrement&nbsp\;16.30 h 22e Assemblée générale ordinai
 re18.00 h Stratégie FM de CFF SBB Immobilien\, une visite guidée virtuel
 le19.00 h Apéritif et networking
 
LOCATION:Vulkanpl. 8\, 8048 Zürich\, Schweiz
DTSTART:20190828T140000Z
DTEND:20190828T173000Z
DTSTAMP:20260425T165413Z
ORGANIZER;CN=IFMA Schweiz :MAILTO:admin@ifma.ch
GEO:47.391668;8.491766
X-APPLE-STRUCTURED-LOCATION;VALUE=URI;X-ADDRESS=Vulkanpl. 8\, 8048 Zürich\
 , Schweiz;X-APPLE-RADIUS=72;X-TITLE=Zürich-Altstetten\, Westlink Tower:47
 .391668;8.491766
END:VEVENT
END:VCALENDAR