BEGIN:VCALENDAR
VERSION:2.0
PRODID:Events Booking
BEGIN:VEVENT
UID:69ea0dd82a217
SUMMARY:IFMA AG et fête d'anniversaire
DESCRIPTION:&nbsp\;
 Nous sommes heureux de communiquer que l’associatio
 n professionnelle IFMA Suisse fête cette année son 20e anniversaire. Nou
 s aimerions célébrer cette date avec vous directement après l’assembl
 ée générale dans le cadre d’une croisière en bateau très divertissa
 nte sur le lac de Zürich\, avec divers grands moments au programme à par
 tir de 16 heures.
 &nbsp\;
 &nbsp\;Programme
 &nbsp\;
LOCATION:Seefeldstrasse 91\, 8008 Zürich\, Schweiz
DTSTART:20170831T110000Z
DTEND:20170831T193000Z
DTSTAMP:20260423T141728Z
ORGANIZER;CN=IFMA Schweiz :MAILTO:admin@ifma.ch
GEO:47.359697;8.553776
X-APPLE-STRUCTURED-LOCATION;VALUE=URI;X-ADDRESS=Seefeldstrasse 91\, 8008 Z
 ürich\, Schweiz;X-APPLE-RADIUS=72;X-TITLE=:47.359697;8.553776
END:VEVENT
END:VCALENDAR