BEGIN:VCALENDAR
VERSION:2.0
PRODID:Events Booking
BEGIN:VEVENT
UID:69e78742a54b8
SUMMARY:Holz 4.0: Kundenverhalten im Wandel 
DESCRIPTION:Elf Expertinnen und Experten aus der Holz- und Waldwirtschaft\,
  dem Marketing und der Forschung liefern wichtige Impulse\, Hintergrundinf
 ormationen\, Instrumente und Praxisbeispiele.
LOCATION:Solothurnstrasse 102\, 2504 Biel\, Schweiz
DTSTART:20190627T060000Z
DTEND:20190627T143000Z
DTSTAMP:20260421T161842Z
ORGANIZER;CN=IFMA Schweiz :MAILTO:admin@ifma.ch
GEO:47.158689;7.276203
X-APPLE-STRUCTURED-LOCATION;VALUE=URI;X-ADDRESS=Solothurnstrasse 102\, 2504
  Biel\, Schweiz;X-APPLE-RADIUS=72;X-TITLE=Biel\, Berner Fachhochschule:47.
 158689;7.276203
END:VEVENT
END:VCALENDAR