BEGIN:VCALENDAR
VERSION:2.0
PRODID:Events Booking
BEGIN:VEVENT
UID:69e7e460179af
SUMMARY:Get Together Zürich
DESCRIPTION:
 Wir wechseln die Lokalität ins Restaurant Bunt. Direkt beim
  Bahnhof Altstetten.
 Ebenso neu wird das Abendprogramm sein.
 Lasst euc
 h überraschen!
 &nbsp\;
 &nbsp\;
 &nbsp\;
LOCATION:Vulkanpl. 2\, 8048 Zürich\, Schweiz
DTSTART:20191121T163000Z
DTEND:20191121T200000Z
DTSTAMP:20260421T225600Z
ORGANIZER;CN=IFMA Schweiz :MAILTO:admin@ifma.ch
GEO:47.392057;8.49124
X-APPLE-STRUCTURED-LOCATION;VALUE=URI;X-ADDRESS=Vulkanpl. 2\, 8048 Zürich\
 , Schweiz;X-APPLE-RADIUS=72;X-TITLE=Zürich\, Restaurant Bunt:47.392057;8.
 49124
END:VEVENT
END:VCALENDAR