BEGIN:VCALENDAR
VERSION:2.0
PRODID:Events Booking
BEGIN:VEVENT
UID:69ea0c566af31
SUMMARY:Get Together Zentralschweiz
DESCRIPTION:
 18 Uhr Präsentation der Ergebnisse zum BIM2FM Datenfeldkata
 log (Grundlage für die FM Bestellung von Daten und Dokumenten in Bauproje
 kten)Ab 19 Uhr Habe ich einen Tisch im Neubad reserviert\, wo ihr etwas Tr
 inken oder Essen bestellen könnt (diesmal ohne Sponsor). Dazu haben wir Z
 eit Schwatzen und Austauschen.
 Anmeldung: daniela.bruehwiler@ifma.ch&nbs
 p\;
 Gäste sind herzlich Willkommen.
LOCATION:Bireggstrasse 36\, 6003 Luzern\, Schweiz
DTSTART:20190910T160000Z
DTEND:20190910T180000Z
DTSTAMP:20260423T141102Z
ORGANIZER;CN=IFMA Schweiz :MAILTO:admin@ifma.ch
GEO:47.041522;8.306578
X-APPLE-STRUCTURED-LOCATION;VALUE=URI;X-ADDRESS=Bireggstrasse 36\, 6003 Luz
 ern\, Schweiz;X-APPLE-RADIUS=72;X-TITLE=Luzern\, Netzwerk Neubad:47.041522
 ;8.306578
END:VEVENT
END:VCALENDAR