BEGIN:VCALENDAR
VERSION:2.0
PRODID:Events Booking
BEGIN:VEVENT
UID:69e7c6949c735
SUMMARY:Get Together Bern
DESCRIPTION:
 &nbsp\;
 In lockerer Atmosphäre bei einem Glas Wein oder B
 ier sich über die beruflichen Herausforderungen austauschen. Gäste sind 
 herzlich willkommen.
 Anmeldung: thomas.luethi@ifma.ch
LOCATION:Bahnhofpl. 10A\, 3011 Bern\, Schweiz
DTSTART:20171113T163000Z
DTEND:20171113T180000Z
DTSTAMP:20260421T204852Z
ORGANIZER;CN=IFMA Schweiz :MAILTO:admin@ifma.ch
GEO:46.948843;7.440274
X-APPLE-STRUCTURED-LOCATION;VALUE=URI;X-ADDRESS=Bahnhofpl. 10A\, 3011 Bern\
 , Schweiz;X-APPLE-RADIUS=72;X-TITLE=Bern\, Restaurant Côté Sud:46.948843
 ;7.440274
END:VEVENT
END:VCALENDAR