BEGIN:VCALENDAR
VERSION:2.0
PRODID:Events Booking
BEGIN:VEVENT
UID:69e751dff3a00
SUMMARY:FEZ Special: Ambassador House
DESCRIPTION:Der ursprüngliche Hotel- und Dienstleistungsbau wurde als eine
  der grössten Sanierungsbaustellen der Schweiz zu einem LEED Platinum Bau
  erneuert. Sieben Obergeschosse bieten heute 57'000 m2 Nutzfläche.Eine An
 meldung ist ab 17. August 2018 hier möglich.
LOCATION:Thurgauerstrasse 101\, 8152 Opfikon\, Schweiz
DTSTART:20181001T220000Z
DTEND:20181001T220000Z
DTSTAMP:20260421T123055Z
ORGANIZER;CN=IFMA Schweiz :MAILTO:admin@ifma.ch
GEO:47.421673;8.555649
X-APPLE-STRUCTURED-LOCATION;VALUE=URI;X-ADDRESS=Thurgauerstrasse 101\, 8152
  Opfikon\, Schweiz;X-APPLE-RADIUS=72;X-TITLE=Zürich\, Ambassador House:47
 .421673;8.555649
END:VEVENT
END:VCALENDAR