BEGIN:VCALENDAR
VERSION:2.0
PRODID:Events Booking
BEGIN:VEVENT
UID:69e5318858f86
SUMMARY:EuroFM Meetings
DESCRIPTION:
DTSTART:20171004T070000Z
DTEND:20171006T150000Z
DTSTAMP:20260419T214824Z
ORGANIZER;CN=IFMA Schweiz :MAILTO:admin@ifma.ch
END:VEVENT
END:VCALENDAR