BEGIN:VCALENDAR
VERSION:2.0
PRODID:Events Booking
BEGIN:VEVENT
UID:69e8e563e0c40
SUMMARY:Brown Bag Lunch: Wie die Schweizerische Post AG bis 2030 klimaneutr
 al sein will
DESCRIPTION:
 
 In diesem Jahr geht der Brown Bag Lunch von öbu und swis
 scleantech in die nächste Runde. Ende März gibt die Schweizerische Post 
 Einblick in ihre Klima- und Energiestrategie und zeigt\, mit welchen konkr
 eten Massnahmen sie ihre Ziele in die Umsetzung bringt. Anschliessend kön
 nen Teilnehmende Fragen stellen - ein idealer Anlass für Inspiration\, Wi
 ssenstransfer und Vernetzung.
 
 
LOCATION:Zürich\, Schweiz
DTSTART:20230330T100000Z
DTEND:20230330T110000Z
DTSTAMP:20230313T115359Z
ORGANIZER;CN=IFMA Schweiz :MAILTO:admin@ifma.ch
GEO:47.376887;8.541694
X-APPLE-STRUCTURED-LOCATION;VALUE=URI;X-ADDRESS=Zürich\, Schweiz;X-APPLE-R
 ADIUS=72;X-TITLE=online:47.376887;8.541694
END:VEVENT
END:VCALENDAR