BEGIN:VCALENDAR
VERSION:2.0
PRODID:Events Booking
BEGIN:VEVENT
UID:69e772ab0a5e0
SUMMARY:8e Forum Bioénergie 
DESCRIPTION:Lors du 8e Forum Bioénergie\, des représentants du monde de
  l'économie\, de la politique\, de lʼadministration et de la recherche e
 t développement discuteront des points forts de la bioénergie\, des fu
 turs modèles commerciaux et du cadre politique nécessaire
LOCATION:Baselstrasse 3\, 4532 Solothurn\, Schweiz
DTSTART:20210831T073000Z
DTEND:20210831T140000Z
DTSTAMP:20260421T145051Z
ORGANIZER;CN=IFMA Schweiz :MAILTO:admin@ifma.ch
GEO:47.220854;7.55547
X-APPLE-STRUCTURED-LOCATION;VALUE=URI;X-ADDRESS=Baselstrasse 3\, 4532 Solot
 hurn\, Schweiz;X-APPLE-RADIUS=72;X-TITLE=Solothurn\, Rythalle:47.220854;7.
 55547
END:VEVENT
END:VCALENDAR