BEGIN:VCALENDAR
VERSION:2.0
PRODID:Events Booking
BEGIN:VEVENT
UID:69e86a481878e
SUMMARY:28. IFMA Generalversammlung
DESCRIPTION:
 Save the Date!IFMA Schweiz lädt ein zur 28. ordentlichen Ge
 neralversammlung. Seien Sie auch diesmal dabei und erfahren Sie\, was unse
 r Verein durch das Verbandsjahr 24/25 geleistet und bewegt hat. Natürlich
  darf ein spannendes Rahmenprogramm nicht fehlen. Mehr Informationen dazu 
 folgen in nützlicher Frist.
DTSTART:20250828T130000Z
DTEND:20250828T170000Z
DTSTAMP:20240822T073143Z
ORGANIZER;CN=IFMA Schweiz :MAILTO:admin@ifma.ch
END:VEVENT
END:VCALENDAR