BEGIN:VCALENDAR
VERSION:2.0
PRODID:Events Booking
BEGIN:VEVENT
UID:69e86a1f08a3a
SUMMARY:27E IFMA Assemblée Générale
DESCRIPTION:
 ProgrammeNous célébrons la 27e assemblée générale (AG) 
 dans les bureaux d'ON à Zurich et vous présentons ce que l'IFMA Suisse a
  réalisé au cours de l'année associative. Pour chaque département\, no
 us présenterons les activités de l'année en cours et les objectifs pour
  la prochaine année associative 2024/25.Cette manifestation est organisé
 e en allemand !
LOCATION:Förrlibuckstrasse 190\, 8005 Zürich\, Schweiz
DTSTART:20240829T133000Z
DTEND:20240829T173000Z
DTSTAMP:20240110T072217Z
ORGANIZER;CN=IFMA Schweiz :MAILTO:admin@ifma.ch
GEO:47.392433;8.510309
X-APPLE-STRUCTURED-LOCATION;VALUE=URI;X-ADDRESS=Förrlibuckstrasse 190\, 80
 05 Zürich\, Schweiz;X-APPLE-RADIUS=72;X-TITLE=Zürich\, ON:47.392433;8.51
 0309
END:VEVENT
END:VCALENDAR